BEGIN:VCALENDAR
VERSION:2.0
PRODID:-//St. Remigius – katholische Kirchengemeinde in Viersen//NONSGML ki
 gkonsult.se iCalcreator 2.30.10//
CALSCALE:GREGORIAN
METHOD:PUBLISH
UID:20af71ce-1fe5-444e-85e5-b224c505f758
X-WR-CALNAME:iCagenda
X-WR-CALDESC:Event Management Extension for Joomla!
X-WR-RELCALID:3E26604A-50F4-4449-8B3E-E4F4932D05B5
X-WR-TIMEZONE:Europe/Berlin
BEGIN:VTIMEZONE
TZID:Europe/Berlin
BEGIN:STANDARD
TZNAME:CET
DTSTART:20221030T030000
TZOFFSETFROM:+0200
TZOFFSETTO:+0100
RDATE:20231029T030000
END:STANDARD
BEGIN:DAYLIGHT
TZNAME:CEST
DTSTART:20220327T020000
TZOFFSETFROM:+0100
TZOFFSETTO:+0200
RDATE:20230326T020000
RDATE:20240331T020000
END:DAYLIGHT
END:VTIMEZONE
BEGIN:VEVENT
UID:62ed942d-bd54-464e-8366-af14354647e6
DTSTAMP:20260420T021446Z
CATEGORIES:Veranstaltung
CLASS:PUBLIC
DESCRIPTION;ALTREP="CID:<FFFF__=0ABBE548DFE235B58f9e8a93d@coffeebean.com>":
 Das Haus ist&nbsp\;barrierefrei\, Saal und Toiletten befinden sich auf ein
 er Ebene.&nbsp\;Bei Rückfragen wenden Sie sich bitte an Frau Böse unter&nb
 sp\;Tel. 0157 83940521. Wir freuen uns auf Sie!&nbsp\;
DTSTART:20221129T131000Z
DTEND:20221129T131000Z
GEO:00;0
LOCATION:MMK Haus\, Josefsstraße 13\, 41747 Viersen
ORGANIZER:
SEQUENCE:1
SUMMARY:Seniorentreff im MMK Haus
TRANSP:OPAQUE
URL:https://st-remigius.de/termine/veranstaltungen/11-seniorentreff/2022-11
 -29-14-10
END:VEVENT
END:VCALENDAR
