BEGIN:VCALENDAR
VERSION:2.0
PRODID:-//St. Remigius – katholische Kirchengemeinde in Viersen//NONSGML ki
 gkonsult.se iCalcreator 2.30.10//
CALSCALE:GREGORIAN
METHOD:PUBLISH
UID:718aba35-fc20-4d78-abda-7cc068835276
X-WR-CALNAME:iCagenda
X-WR-CALDESC:Event Management Extension for Joomla!
X-WR-RELCALID:3E26604A-50F4-4449-8B3E-E4F4932D05B5
X-WR-TIMEZONE:Europe/Berlin
BEGIN:VTIMEZONE
TZID:Europe/Berlin
BEGIN:STANDARD
TZNAME:CET
DTSTART:20251026T030000
TZOFFSETFROM:+0200
TZOFFSETTO:+0100
RDATE:20261025T030000
END:STANDARD
BEGIN:DAYLIGHT
TZNAME:CEST
DTSTART:20260329T020000
TZOFFSETFROM:+0100
TZOFFSETTO:+0200
RDATE:20270328T020000
END:DAYLIGHT
END:VTIMEZONE
BEGIN:VEVENT
UID:e1eb842e-1326-47dd-a9cb-64ffca0c81c7
DTSTAMP:20260420T034540Z
CATEGORIES:Veranstaltung
CLASS:PUBLIC
DESCRIPTION;ALTREP="CID:<FFFF__=0ABBE548DFE235B58f9e8a93d@coffeebean.com>":
 Der Stand öffnet vor und nach dem 11-Uhr-Gottesdienst in St. Remigius.\nVe
 rkauf von Schönem für Drinnen und Draußen\, Planzen\, Deko\, kleinen Gesch
 enken und vielem mehr.
DTSTART:20260426T084500Z
DTEND:20260426T084500Z
GEO:00;0
LOCATION:vor der Remigiuskirche\, Remigiusplatz 11a\, 41747 Viersen
ORGANIZER:
SEQUENCE:1
SUMMARY:Eine-Welt-Stand
TRANSP:OPAQUE
URL:https://st-remigius.de/termine/veranstaltungen/501-eine-welt-stand-43/2
 026-04-26-10-45
END:VEVENT
END:VCALENDAR
