BEGIN:VCALENDAR
VERSION:2.0
PRODID:-//St. Remigius – katholische Kirchengemeinde in Viersen//NONSGML ki
 gkonsult.se iCalcreator 2.30.10//
CALSCALE:GREGORIAN
METHOD:PUBLISH
UID:0ef349a6-6d25-4503-b008-a460306e18b4
X-WR-CALNAME:iCagenda
X-WR-CALDESC:Event Management Extension for Joomla!
X-WR-RELCALID:3E26604A-50F4-4449-8B3E-E4F4932D05B5
X-WR-TIMEZONE:Europe/Berlin
BEGIN:VTIMEZONE
TZID:Europe/Berlin
BEGIN:STANDARD
TZNAME:CET
DTSTART:20251026T030000
TZOFFSETFROM:+0200
TZOFFSETTO:+0100
RDATE:20261025T030000
RDATE:20271031T030000
END:STANDARD
BEGIN:DAYLIGHT
TZNAME:CEST
DTSTART:20260329T020000
TZOFFSETFROM:+0100
TZOFFSETTO:+0200
RDATE:20270328T020000
END:DAYLIGHT
END:VTIMEZONE
BEGIN:VEVENT
UID:8d72b528-cf9f-4e8b-927c-8fe362e0fdd3
DTSTAMP:20260423T225928Z
CATEGORIES:Veranstaltung
CLASS:PUBLIC
DESCRIPTION;ALTREP="CID:<FFFF__=0ABBE548DFE235B58f9e8a93d@coffeebean.com>":
 Jeden vierten Donnerstag im Monat treffen sich Betroffene von 17.30 Uhr bi
 s 20.00 Uhr\,&nbsp\; Der Kostenbeitrag liegt bei 9\,-- €.\nDie Trost Mahze
 it ist ein gemeinsames Angebot der Ev. Kirchengemeinde Dülken und der Hosp
 izinitiative Viersen e.V. Die Teilnahme ist mit Anmeldung unter Telefon 02
 162 29050 oder per E-Mail an&nbsp\;duelken@ekir.de&nbsp\;möglich. Bei Beda
 rf gibt es über die Kontaktdaten auch weitere Informationen zu der Veranst
 altung.
DTSTART:20260723T153000Z
DTEND:20260723T153000Z
GEO:00;0
LOCATION:Gemeindezentrum der Ev. Kirchengemeinde Dülken\, Martin-Luther-Str
 . 4\, 41751 Viersen
ORGANIZER:
SEQUENCE:1
SUMMARY:Trost Mahlzeit - Kochen mit Trauernden
TRANSP:OPAQUE
URL:https://st-remigius.de/termine/veranstaltungen/487-trost-mahlzeit-koche
 n-mit-trauernden-3/2026-07-23-17-30
END:VEVENT
END:VCALENDAR
